BEGIN:VCALENDAR
VERSION:2.0
PRODID:-//KONYE COUNCIL - ECPv6.15.18//NONSGML v1.0//EN
CALSCALE:GREGORIAN
METHOD:PUBLISH
X-ORIGINAL-URL:https://konye.cm
X-WR-CALDESC:Events for KONYE COUNCIL
REFRESH-INTERVAL;VALUE=DURATION:PT1H
X-Robots-Tag:noindex
X-PUBLISHED-TTL:PT1H
BEGIN:VTIMEZONE
TZID:UTC
BEGIN:STANDARD
TZOFFSETFROM:+0000
TZOFFSETTO:+0000
TZNAME:UTC
DTSTART:20240101T000000
END:STANDARD
END:VTIMEZONE
BEGIN:VEVENT
DTSTART;TZID=UTC:20250505T000000
DTEND;TZID=UTC:20250505T000000
DTSTAMP:20260421T153348
CREATED:20250505T094014Z
LAST-MODIFIED:20250701T083157Z
UID:1845-1746403200-1746403200@konye.cm
SUMMARY:Launch of Municipal E-Governance Portal
DESCRIPTION:The Council recently launched its e-governance portal designed to improve transparency\, allow service access\, and reduce administrative delays. The article provides insights into the portal’s development\, features\, stakeholder engagement\, and early performance indicators.
URL:https://konye.cm/event/public-affairs-public-safety-committee-meeting-5-2-8/
CATEGORIES:Envisaged,Projects
ATTACH;FMTTYPE=image/jpeg:https://konye.cm/wp-content/uploads/2025/05/news4.jpeg
END:VEVENT
BEGIN:VEVENT
DTSTART;TZID=UTC:20250505T000000
DTEND;TZID=UTC:20250505T000000
DTSTAMP:20260421T153348
CREATED:20250505T093915Z
LAST-MODIFIED:20250701T090405Z
UID:1843-1746403200-1746403200@konye.cm
SUMMARY:Environmental Day: Massive Tree Planting Campaign Initiated
DESCRIPTION:On the Council’s Environmental Day\, more than 5\,000 trees were planted across the municipality. The article explores planning logistics\, ecological benefits\, partnerships with schools and civil society\, and the community response.
URL:https://konye.cm/event/public-affairs-public-safety-committee-meeting-5-2-6/
CATEGORIES:Envisaged,Projects
ATTACH;FMTTYPE=image/jpeg:https://konye.cm/wp-content/uploads/2025/05/hs4.jpeg
END:VEVENT
END:VCALENDAR